BEGIN:VCALENDAR
VERSION:2.0
PRODID:-//Korean Quarterly - ECPv6.15.20//NONSGML v1.0//EN
CALSCALE:GREGORIAN
METHOD:PUBLISH
X-ORIGINAL-URL:https://www.koreanquarterly.org
X-WR-CALDESC:Events for Korean Quarterly
REFRESH-INTERVAL;VALUE=DURATION:PT1H
X-Robots-Tag:noindex
X-PUBLISHED-TTL:PT1H
BEGIN:VTIMEZONE
TZID:America/Chicago
BEGIN:DAYLIGHT
TZOFFSETFROM:-0600
TZOFFSETTO:-0500
TZNAME:CDT
DTSTART:20240310T080000
END:DAYLIGHT
BEGIN:STANDARD
TZOFFSETFROM:-0500
TZOFFSETTO:-0600
TZNAME:CST
DTSTART:20241103T070000
END:STANDARD
BEGIN:DAYLIGHT
TZOFFSETFROM:-0600
TZOFFSETTO:-0500
TZNAME:CDT
DTSTART:20250309T080000
END:DAYLIGHT
BEGIN:STANDARD
TZOFFSETFROM:-0500
TZOFFSETTO:-0600
TZNAME:CST
DTSTART:20251102T070000
END:STANDARD
BEGIN:DAYLIGHT
TZOFFSETFROM:-0600
TZOFFSETTO:-0500
TZNAME:CDT
DTSTART:20260308T080000
END:DAYLIGHT
BEGIN:STANDARD
TZOFFSETFROM:-0500
TZOFFSETTO:-0600
TZNAME:CST
DTSTART:20261101T070000
END:STANDARD
END:VTIMEZONE
BEGIN:VEVENT
DTSTART;TZID=America/Chicago:20250215T110000
DTEND;TZID=America/Chicago:20250215T153000
DTSTAMP:20260421T155958
CREATED:20250122T225845Z
LAST-MODIFIED:20250122T225845Z
UID:10002327-1739617200-1739633400@www.koreanquarterly.org
SUMMARY:Korean dance and taekwondo program set for Lunar New Year
DESCRIPTION:Korean traditional music\, dance\, the martial art taekwondo\, festive foods and a traditional painting workshop will be included in a Lunar New Year (Seollal) celebration. \nThe Korean Cultural Association\, the support organization for JangMi Arts traditional dance and drumming school\, is sponsoring the annual event at the White Bear Lake Area High School (south campus) on Saturday\, February 1\, from 11 a.m. to 3:30 p.m. \nThe entertainment program (1 to 2:45 p.m.) by JangMi students and Lee’s Champion Taekwondo students  is free and open to the public. There will be a charge for the tteokguk lunch (a traditional good luck soup for the new year) (11:30 a.m. to 12:30 p.m.).  A Korean marketplace\, with Korean crafts and games\, will be held 11 a.m. to 3:30 p.m.  Also\, a minhwa (traditional painting) workshop will be held from 3 to 5 p.m. \nJangMi’s drum and dance program reaches out to Korean adoptees and their families in the Twin Cities area by getting children and youth together for friendship and to learn traditional performing arts. \nThe White Bear Lake High School south campus is located at 5045 Division Street\, White Bear Lake.
URL:https://www.koreanquarterly.org/event/korean-dance-and-taekwondo-program-set-for-lunar-new-year/
LOCATION:White Bear Lake High School South Campus\, 3551 McKnight Rd. N.\, White Bear Lake\, MN\, 55110\, United States
END:VEVENT
BEGIN:VEVENT
DTSTART;TZID=America/Chicago:20250215T133000
DTEND;TZID=America/Chicago:20250215T160000
DTSTAMP:20260421T155958
CREATED:20250122T232340Z
LAST-MODIFIED:20250122T232340Z
UID:10002328-1739626200-1739635200@www.koreanquarterly.org
SUMMARY:AK Connection to hold Seollal dinner and performances
DESCRIPTION:AK Connection will celebrate the Year of the Snake with a Seollal party\, to be held Saturday\, February 15.\n\nThe event will include a meal of traditional foods for New Year\, including tteokguk (a traditional soup for new year)\,  japchae (noodles)\,  rice\, and kimchi (provided by Myonghi Kimchi)\, and chicken mu from the bb.q Chicken restaurant.\n\nThere will also be performances\, Korean traditional games\, crafts\, and a sebae\, or traditional bow to elders that happens on New Year day.\n\n\nThe event will be held at the Northeast Recreation Center\, located at 1530 Johnson Street NE\, Minneapolis\, from 1:30 to 4 p.m. Reservations are available at the link.\n\nParticipants are encouraged to pay what they can for event costs with the following guidelines:  $5 for a portion of event costs; $10 for break-even; and $20 to cover the costs of someone who cannot contribute.\n\n\n\n\nKorean adoptees and their loved ones are welcome to join\, but reservations are strongly encouraged. Seats are limited to the first 90 people who sign up.
URL:https://www.koreanquarterly.org/event/ak-connection-to-hold-seollal-dinner-and-performances/
LOCATION:Northeast Recreation Center\, 1530 Johnson Street NE\, Minneapolis\, MN\, 55413\, United States
END:VEVENT
END:VCALENDAR