BEGIN:VCALENDAR
VERSION:2.0
PRODID:-//Korean Quarterly - ECPv6.15.20//NONSGML v1.0//EN
CALSCALE:GREGORIAN
METHOD:PUBLISH
X-ORIGINAL-URL:https://www.koreanquarterly.org
X-WR-CALDESC:Events for Korean Quarterly
REFRESH-INTERVAL;VALUE=DURATION:PT1H
X-Robots-Tag:noindex
X-PUBLISHED-TTL:PT1H
BEGIN:VTIMEZONE
TZID:America/Chicago
BEGIN:DAYLIGHT
TZOFFSETFROM:-0600
TZOFFSETTO:-0500
TZNAME:CDT
DTSTART:20210314T080000
END:DAYLIGHT
BEGIN:STANDARD
TZOFFSETFROM:-0500
TZOFFSETTO:-0600
TZNAME:CST
DTSTART:20211107T070000
END:STANDARD
BEGIN:DAYLIGHT
TZOFFSETFROM:-0600
TZOFFSETTO:-0500
TZNAME:CDT
DTSTART:20220313T080000
END:DAYLIGHT
BEGIN:STANDARD
TZOFFSETFROM:-0500
TZOFFSETTO:-0600
TZNAME:CST
DTSTART:20221106T070000
END:STANDARD
BEGIN:DAYLIGHT
TZOFFSETFROM:-0600
TZOFFSETTO:-0500
TZNAME:CDT
DTSTART:20230312T080000
END:DAYLIGHT
BEGIN:STANDARD
TZOFFSETFROM:-0500
TZOFFSETTO:-0600
TZNAME:CST
DTSTART:20231105T070000
END:STANDARD
END:VTIMEZONE
BEGIN:VEVENT
DTSTART;VALUE=DATE:20220116
DTEND;VALUE=DATE:20220601
DTSTAMP:20260421T050401
CREATED:20210828T174856Z
LAST-MODIFIED:20211028T001406Z
UID:10001459-1642291200-1654041599@www.koreanquarterly.org
SUMMARY:Adoptee referral portraits collection to be featured at Weissman Art Museum
DESCRIPTION:The work of Minnesota Korean adoptee artist Megan Rye will be featured in an exhibit entitled Foundling\, to open at the Weissman Museum of Art\, Minneapolis\, on January 16\, 2022. \nMore than 70 families participated in sharing referral photos of themselves or adoptee loved ones\, who are adopted from many countries to Minnesota.  She collected the photos over some years\, and there are now portraits of 100 adoptees in the exhibit\, rendered in paint on Target shopping bags. \nThe exhibit will have a soft opening in January\, and there will be events at the museum in spring 2020. Because construction is ongoing at the museum with no solid finish date\, and due to possible stricter COVID protocols in the future\, and Minnesota weather generally\, the events at the museum were delayed\, although the exhibit will be opening on time\, Rye said. \nRye said she got the idea after having her second child\, and realizing she had only a few black and white photos of herself as a baby\, while there were thousands of images of her son and daughter\, as well as many keepsake objects\, not to mention roomfuls of toys\, clothes and other objects related to them. \nRye was brought up in the Twin Cities\, got her undergraduate degree from Rhode Island School of Design\, and her Master’s of Fine Arts from the University of Minnesota.  The Weissman exhibit is a kind of a homecoming for her\, she said\, and she expects to invite in adoptee groups locally\, as well as University of Minnesota students to observe and learn from the project. \nMegan Rye’s website\, featuring this collection and her  I Will Follow You Into the Dark exhibit of her paintings of her brother’s photos of his military tour in Iraq\, is at: meganrye.com .  The Weissman Art Museum is at: wam.umn.edu. \n  \n  \n 
URL:https://www.koreanquarterly.org/event/adoptee-referral-portraits-collection-to-be-featured-at-weissman-art-museum/
LOCATION:MN
END:VEVENT
BEGIN:VEVENT
DTSTART;VALUE=DATE:20220427
DTEND;VALUE=DATE:20220428
DTSTAMP:20260421T050401
CREATED:20220409T171641Z
LAST-MODIFIED:20220409T171641Z
UID:10001483-1651017600-1651103999@www.koreanquarterly.org
SUMMARY:North by North Film Festival to be held in Duluth
DESCRIPTION:Asian American films and films about Midwestern people and topics are some of the selection of offerings for the 2022 North by North International Film Festival\, to be held April 27 through May 1\, in Duluth. \nBadges for $75 are on sale through the month of April for the festival on its website (see link). Badges include unlimited access to screenings\, mixers\, and panels during the festival. Films will be screened at Zeitgeist Arts\, 222 E. Superior St.\, Duluth. \nFestival categories (with sponsoring organizations)  include: Indigenous Filmmakers (American Indian Community Housing Organization (AICHO))\, Black Fimmakers (Duluth Branch NAACP) Asian Filmmakers (Twin Ports Asian Pacific Islander Desi American Collective (TPAC)).  Other categories include: narrative shorts and features; documentary shorts and features; local shorts and features; Midwest shorts and features; horror shorts and features; animation\, music videos\, and family films.  Film listings\, synopses\, dates and times are listed on the website.
URL:https://www.koreanquarterly.org/event/north-by-north-film-festival-to-be-held-in-duluth/
LOCATION:MN
END:VEVENT
BEGIN:VEVENT
DTSTART;TZID=America/Chicago:20220430T120000
DTEND;TZID=America/Chicago:20220430T150000
DTSTAMP:20260421T050401
CREATED:20220414T000528Z
LAST-MODIFIED:20220414T000736Z
UID:10001486-1651320000-1651330800@www.koreanquarterly.org
SUMMARY:Poets to speak on poetry's role in social movements
DESCRIPTION:Minnesota poets who contributed to the essay and poetry collection We Are Meant to Rise will speak in a virtual panel Saturday\, April 30\, noon to 3 p.m.(CDT). \nEntitled We Are Meant to Rise: The Poetry of Social Movements\, the poets will be asked to discuss how poetry contributes to how social movements form\,  mature\, and are understood in history.  Panelists will include co-contributors Sun Yung Shin\, Douglas Kearney\, Arleta Little\, Michael Torres\, Kevin Yang. The discussion will be led by moderator Danez Smith. \nWe Are Meant to Rise tells the story\, from the point of view of Minnesotan writers of color\, of the racial reckoning that began in Minnesota with the murder of African American George Floyd by a white Minneapolis police officer. \nThe virtual reading and roundtable discussion will close out Poetry Month\, and is sponsored by TruArtSpeaks\, an arts and culture organization in St. Paul with a focus on youth and young adult artists.  For information on how to register\, see the TrueArtSpeaks website at the link below.
URL:https://www.koreanquarterly.org/event/poets-to-speak-on-poetrys-role-in-social-movements/
LOCATION:MN
END:VEVENT
END:VCALENDAR