BEGIN:VCALENDAR
VERSION:2.0
PRODID:-//Korean Quarterly - ECPv6.15.20//NONSGML v1.0//EN
CALSCALE:GREGORIAN
METHOD:PUBLISH
X-WR-CALNAME:Korean Quarterly
X-ORIGINAL-URL:https://www.koreanquarterly.org
X-WR-CALDESC:Events for Korean Quarterly
REFRESH-INTERVAL;VALUE=DURATION:PT1H
X-Robots-Tag:noindex
X-PUBLISHED-TTL:PT1H
BEGIN:VTIMEZONE
TZID:America/Chicago
BEGIN:DAYLIGHT
TZOFFSETFROM:-0600
TZOFFSETTO:-0500
TZNAME:CDT
DTSTART:20210314T080000
END:DAYLIGHT
BEGIN:STANDARD
TZOFFSETFROM:-0500
TZOFFSETTO:-0600
TZNAME:CST
DTSTART:20211107T070000
END:STANDARD
BEGIN:DAYLIGHT
TZOFFSETFROM:-0600
TZOFFSETTO:-0500
TZNAME:CDT
DTSTART:20220313T080000
END:DAYLIGHT
BEGIN:STANDARD
TZOFFSETFROM:-0500
TZOFFSETTO:-0600
TZNAME:CST
DTSTART:20221106T070000
END:STANDARD
BEGIN:DAYLIGHT
TZOFFSETFROM:-0600
TZOFFSETTO:-0500
TZNAME:CDT
DTSTART:20230312T080000
END:DAYLIGHT
BEGIN:STANDARD
TZOFFSETFROM:-0500
TZOFFSETTO:-0600
TZNAME:CST
DTSTART:20231105T070000
END:STANDARD
END:VTIMEZONE
BEGIN:VEVENT
DTSTART;TZID=America/Chicago:20221105T130000
DTEND;TZID=America/Chicago:20221105T160000
DTSTAMP:20260421T142656
CREATED:20221001T183342Z
LAST-MODIFIED:20221001T183342Z
UID:10001499-1667653200-1667664000@www.koreanquarterly.org
SUMMARY:Hanji class in Korean paper ornament craft to be held
DESCRIPTION:The Hanji Crew\, a Twin Cities craft group\, will offer a class on making hanji holiday ornaments in a class to be held Saturday\, November 5\, 1 to 4 p.m. at the Marine Mills Folk School\, located in Marine-on-St. Croix. \nNo experience is necessary for the class\, which teaches the Korean art of making traditional crafts from hanji\, a durable traditional paper made of mulberry bark. The class is targeted to adults\, but crafty teens and tweens (ages 10 and older) may also participate with a separate registration. Participants may make their own ornaments or use Hanji Crew’s stencils. \nThe Marine Mills Folk School is an experiential learning center in Minnesota’s St. Croix Valley\, teaching classes in fiber arts\, woodworking and other arts and crafts pursuits. \nThe Hanji Crew makes and sells its own paper crafts through sales in the Twin Cities area\, and donates the proceeds to organizations benefitting Korean adoptees. The Crew are two mothers of Korean adoptees who established the group and developed their proficiency in hanji art. \nThe paper can be used to make a range of items\, from tiny ornaments and to large boxes and handbags. For more information and photos of hanji crafts\, see the webpage at www.thehanjicrew.com or the Facebook page at:  https://www.facebook.com/thehanjicrew/
URL:https://www.koreanquarterly.org/event/hanji-class-in-korean-paper-ornament-craft-to-be-held/
LOCATION:Marine Mills Folk School\, 550 Pine St.\, Marine-on-St. Croix\, MN\, 55047\, United States
END:VEVENT
BEGIN:VEVENT
DTSTART;TZID=America/Chicago:20221106T130000
DTEND;TZID=America/Chicago:20221106T170000
DTSTAMP:20260421T142656
CREATED:20221102T035534Z
LAST-MODIFIED:20221102T035534Z
UID:10001504-1667739600-1667754000@www.koreanquarterly.org
SUMMARY:Korean Culture Festival at MOA November 6
DESCRIPTION:Korean music\, percussion and dance groups from the Twin Cities and Chicago will perform for a free Korean Culture Festival to be held at the Mall of America\, Bloomington\, on Sunday November 6 from 1 to 5 p.m. \nThe Korean American Association of Minnesota is sponsoring of the event\, which will feature Twin Cities performing groups JangMi Arts\,  Shinparam Korean Traditional Drum Troupe\, MKDC Kpop dance group\, and a martial arts demonstration by Lee’s Champion Taekwondo Academy.  Chicago performing groups include the Korean Performing Art Institute of Chicago\, and the Korean Dance Company of Chicago. There will also be a fashion show by the Korean Student Association from the University of Minnesota. \nThe event will be held at the Huntington Rotunda event area within the Mall. The Korean American Association of Minnesota\, a business\, cultural and service organization of the Twin Cities Korean American community  website is: www.mnkorea.org \n  \n 
URL:https://www.koreanquarterly.org/event/korean-culture-festival-at-moa-november-6/
LOCATION:MN
END:VEVENT
END:VCALENDAR