BEGIN:VCALENDAR
VERSION:2.0
PRODID:-//Korean Quarterly - ECPv6.15.20//NONSGML v1.0//EN
CALSCALE:GREGORIAN
METHOD:PUBLISH
X-WR-CALNAME:Korean Quarterly
X-ORIGINAL-URL:https://www.koreanquarterly.org
X-WR-CALDESC:Events for Korean Quarterly
REFRESH-INTERVAL;VALUE=DURATION:PT1H
X-Robots-Tag:noindex
X-PUBLISHED-TTL:PT1H
BEGIN:VTIMEZONE
TZID:America/Chicago
BEGIN:DAYLIGHT
TZOFFSETFROM:-0600
TZOFFSETTO:-0500
TZNAME:CDT
DTSTART:20210314T080000
END:DAYLIGHT
BEGIN:STANDARD
TZOFFSETFROM:-0500
TZOFFSETTO:-0600
TZNAME:CST
DTSTART:20211107T070000
END:STANDARD
BEGIN:DAYLIGHT
TZOFFSETFROM:-0600
TZOFFSETTO:-0500
TZNAME:CDT
DTSTART:20220313T080000
END:DAYLIGHT
BEGIN:STANDARD
TZOFFSETFROM:-0500
TZOFFSETTO:-0600
TZNAME:CST
DTSTART:20221106T070000
END:STANDARD
BEGIN:DAYLIGHT
TZOFFSETFROM:-0600
TZOFFSETTO:-0500
TZNAME:CDT
DTSTART:20230312T080000
END:DAYLIGHT
BEGIN:STANDARD
TZOFFSETFROM:-0500
TZOFFSETTO:-0600
TZNAME:CST
DTSTART:20231105T070000
END:STANDARD
END:VTIMEZONE
BEGIN:VEVENT
DTSTART;TZID=America/Chicago:20221112T080000
DTEND;TZID=America/Chicago:20221112T173000
DTSTAMP:20260421T142630
CREATED:20221013T232544Z
LAST-MODIFIED:20221014T020345Z
UID:10001500-1668240000-1668274200@www.koreanquarterly.org
SUMMARY:Workshop on self-care for Korean adoptees
DESCRIPTION:Adoptee Hub will hold an all-day Self-Care Workshop on Saturday\, November 12\, 8 a.m. to 5:30 p.m.\, for Korean adoptees\, age 18 and older. \nThe workshop will include Korean cultural elements\, including a traditional tea ceremony and basic Korean language learning.   It will also include discussion on understanding adverse childhood experiences (ACEs) a conversation on birth family searching\, and a yoga session. \nParticipants are encouraged to come prepared to discuss\, share experiences and challenges\, be curious\, and ready to build resilience and self-awareness. All discussion is confidential and will be conducted in a safe\, nonjudgmental space. \nParticipants will receive a self-care package at the end of the day. Breakfast\, lunch\, and snacks are included. Adoptee Hub has made reservations at Hoban Uptown for a dinner (participants will pay separately for this). \nWorkshop will be held at the Hilton Hotel in Bloomington. Reservations for the workshop are limited to 30 participants; see the Adoptee Hub website for more information.
URL:https://www.koreanquarterly.org/event/workshop-on-self-care-for-korean-adoptees/
LOCATION:Hilton Hotel\, 3900 American Boulevard West\, Bloomington\, MN\, 55437\, United States
END:VEVENT
END:VCALENDAR