BEGIN:VCALENDAR
VERSION:2.0
PRODID:-//Korean Quarterly - ECPv6.15.20//NONSGML v1.0//EN
CALSCALE:GREGORIAN
METHOD:PUBLISH
X-WR-CALNAME:Korean Quarterly
X-ORIGINAL-URL:https://www.koreanquarterly.org
X-WR-CALDESC:Events for Korean Quarterly
REFRESH-INTERVAL;VALUE=DURATION:PT1H
X-Robots-Tag:noindex
X-PUBLISHED-TTL:PT1H
BEGIN:VTIMEZONE
TZID:America/Chicago
BEGIN:DAYLIGHT
TZOFFSETFROM:-0600
TZOFFSETTO:-0500
TZNAME:CDT
DTSTART:20220313T080000
END:DAYLIGHT
BEGIN:STANDARD
TZOFFSETFROM:-0500
TZOFFSETTO:-0600
TZNAME:CST
DTSTART:20221106T070000
END:STANDARD
BEGIN:DAYLIGHT
TZOFFSETFROM:-0600
TZOFFSETTO:-0500
TZNAME:CDT
DTSTART:20230312T080000
END:DAYLIGHT
BEGIN:STANDARD
TZOFFSETFROM:-0500
TZOFFSETTO:-0600
TZNAME:CST
DTSTART:20231105T070000
END:STANDARD
BEGIN:DAYLIGHT
TZOFFSETFROM:-0600
TZOFFSETTO:-0500
TZNAME:CDT
DTSTART:20240310T080000
END:DAYLIGHT
BEGIN:STANDARD
TZOFFSETFROM:-0500
TZOFFSETTO:-0600
TZNAME:CST
DTSTART:20241103T070000
END:STANDARD
END:VTIMEZONE
BEGIN:VEVENT
DTSTART;TZID=America/Chicago:20230128T163000
DTEND;TZID=America/Chicago:20230128T183000
DTSTAMP:20260421T051433
CREATED:20230119T163659Z
LAST-MODIFIED:20230119T164538Z
UID:10001510-1674923400-1674930600@www.koreanquarterly.org
SUMMARY:Korean Adoptee Ministries to hold new year (seollal) event
DESCRIPTION:Korean Adoptee Ministries will hold a 2023 Lunar New Year celebration on Saturday\, January 28\, 2023\, 4:30 to 6:30 at Korean Presbyterian Church of Minnesota\, 5840 Humboldt Avenue North\, Minneapolis 55430 \nThe event is the first after a pandemic break of three years.  It will feature Korean food\, Korean traditional games\, and a sebae (bow to the elders). Pre-registration is required\, and is limited to 20 families. \nThe Korean Adoptees Ministry (KAM) Center is a Christian non-profit organizations that provides support and services for\, and dialogue with Korean adoptees and their families. \n  \n  \n  \n 
URL:https://www.koreanquarterly.org/event/korean-adoptee-ministries-to-hold-new-year-seollal-event/
LOCATION:Korean Presbyterian Church\, 5840 Humboldt Avenue North\, Minneapolis\, MN\, 55430\, United States
END:VEVENT
END:VCALENDAR