BEGIN:VCALENDAR
VERSION:2.0
PRODID:-//Korean Quarterly - ECPv6.15.20//NONSGML v1.0//EN
CALSCALE:GREGORIAN
METHOD:PUBLISH
X-ORIGINAL-URL:https://www.koreanquarterly.org
X-WR-CALDESC:Events for Korean Quarterly
REFRESH-INTERVAL;VALUE=DURATION:PT1H
X-Robots-Tag:noindex
X-PUBLISHED-TTL:PT1H
BEGIN:VTIMEZONE
TZID:America/Chicago
BEGIN:DAYLIGHT
TZOFFSETFROM:-0600
TZOFFSETTO:-0500
TZNAME:CDT
DTSTART:20220313T080000
END:DAYLIGHT
BEGIN:STANDARD
TZOFFSETFROM:-0500
TZOFFSETTO:-0600
TZNAME:CST
DTSTART:20221106T070000
END:STANDARD
BEGIN:DAYLIGHT
TZOFFSETFROM:-0600
TZOFFSETTO:-0500
TZNAME:CDT
DTSTART:20230312T080000
END:DAYLIGHT
BEGIN:STANDARD
TZOFFSETFROM:-0500
TZOFFSETTO:-0600
TZNAME:CST
DTSTART:20231105T070000
END:STANDARD
BEGIN:DAYLIGHT
TZOFFSETFROM:-0600
TZOFFSETTO:-0500
TZNAME:CDT
DTSTART:20240310T080000
END:DAYLIGHT
BEGIN:STANDARD
TZOFFSETFROM:-0500
TZOFFSETTO:-0600
TZNAME:CST
DTSTART:20241103T070000
END:STANDARD
END:VTIMEZONE
BEGIN:VEVENT
DTSTART;TZID=America/Chicago:20230225T183000
DTEND;TZID=America/Chicago:20230225T213000
DTSTAMP:20260422T142208
CREATED:20230204T181933Z
LAST-MODIFIED:20230204T181954Z
UID:10001514-1677349800-1677360600@www.koreanquarterly.org
SUMMARY:Korean Adoptees of Chicago monthly dinner event set
DESCRIPTION:Korean Adoptees of Chicago (KAtCH) will hold its February dinner at Sun Wah BBQ\, 5039 N. Broadway\, Chicago\, February 25\, 6:30 p.m. The event is for Korean adoptees and their friends and family. Registration is required; seating is limited. For more information or for last-minute reservations or cancellation\, please email:  ka**@********go.com. \nKAtCH exists to represent and serve Korean adoptees of the Chicago area\, and to foster positive relationships in the larger AAPI community  It provides monthly social events\, and also cultural events\, collaborations with other Korean American organizations\, and opportunities for mentoring of younger transnational adoptees.
URL:https://www.koreanquarterly.org/event/korean-adoptees-of-chicago-monthly-dinner-event-set/
LOCATION:Sun Wah BBQ\, 5039 N Broadway\, Chicago\, IL\, 60640\, United States
END:VEVENT
END:VCALENDAR