BEGIN:VCALENDAR
VERSION:2.0
PRODID:-//Korean Quarterly - ECPv6.15.20//NONSGML v1.0//EN
CALSCALE:GREGORIAN
METHOD:PUBLISH
X-WR-CALNAME:Korean Quarterly
X-ORIGINAL-URL:https://www.koreanquarterly.org
X-WR-CALDESC:Events for Korean Quarterly
REFRESH-INTERVAL;VALUE=DURATION:PT1H
X-Robots-Tag:noindex
X-PUBLISHED-TTL:PT1H
BEGIN:VTIMEZONE
TZID:America/Chicago
BEGIN:DAYLIGHT
TZOFFSETFROM:-0600
TZOFFSETTO:-0500
TZNAME:CDT
DTSTART:20220313T080000
END:DAYLIGHT
BEGIN:STANDARD
TZOFFSETFROM:-0500
TZOFFSETTO:-0600
TZNAME:CST
DTSTART:20221106T070000
END:STANDARD
BEGIN:DAYLIGHT
TZOFFSETFROM:-0600
TZOFFSETTO:-0500
TZNAME:CDT
DTSTART:20230312T080000
END:DAYLIGHT
BEGIN:STANDARD
TZOFFSETFROM:-0500
TZOFFSETTO:-0600
TZNAME:CST
DTSTART:20231105T070000
END:STANDARD
BEGIN:DAYLIGHT
TZOFFSETFROM:-0600
TZOFFSETTO:-0500
TZNAME:CDT
DTSTART:20240310T080000
END:DAYLIGHT
BEGIN:STANDARD
TZOFFSETFROM:-0500
TZOFFSETTO:-0600
TZNAME:CST
DTSTART:20241103T070000
END:STANDARD
END:VTIMEZONE
BEGIN:VEVENT
DTSTART;TZID=America/Chicago:20230301T140000
DTEND;TZID=America/Chicago:20230301T153000
DTSTAMP:20260422T055141
CREATED:20230228T002155Z
LAST-MODIFIED:20230228T002155Z
UID:10001521-1677679200-1677684600@www.koreanquarterly.org
SUMMARY:Webinar on Korean peace open for registration
DESCRIPTION:Laying Out a Roadmap for Peace in Korea in 2023 is the title of a free online webinar to be held at 2 p.m. (CST) Wednesday\, March 1. \nNew Korea peace legislation will be re-introduced in Congress on that day by Rep. Brad Sherman (D-CA). The discussion at the event will center around the political context and geopolitical dynamics in Korea and the U.S.\, how the new Peace on the Korean Peninsula Act provides a roadmap toward peace\, and opportunities for action. \nJae-Jung Suh\, an expert in U.S.-Korea relations and international security\, and professor of politics and international studies at the International Christian University (Tokyo\, Japan) will speak\, along with Christine Ahn\, peace activist\, executive director and co-founder of Women Cross DMZ. Colleen Moore\, advocacy director for Women Cross DMZ will also speak. \nRegistration for the event is at the attached link. \nFor more about the Korean peace advocacy campaign of Women Cross DMZ\, please see the website:www.womencrossdmz.org \n 
URL:https://www.koreanquarterly.org/event/webinar-on-korean-peace-open-for-registration/
LOCATION:MN
END:VEVENT
END:VCALENDAR