BEGIN:VCALENDAR
VERSION:2.0
PRODID:-//Korean Quarterly - ECPv6.15.20//NONSGML v1.0//EN
CALSCALE:GREGORIAN
METHOD:PUBLISH
X-WR-CALNAME:Korean Quarterly
X-ORIGINAL-URL:https://www.koreanquarterly.org
X-WR-CALDESC:Events for Korean Quarterly
REFRESH-INTERVAL;VALUE=DURATION:PT1H
X-Robots-Tag:noindex
X-PUBLISHED-TTL:PT1H
BEGIN:VTIMEZONE
TZID:America/Chicago
BEGIN:DAYLIGHT
TZOFFSETFROM:-0600
TZOFFSETTO:-0500
TZNAME:CDT
DTSTART:20220313T080000
END:DAYLIGHT
BEGIN:STANDARD
TZOFFSETFROM:-0500
TZOFFSETTO:-0600
TZNAME:CST
DTSTART:20221106T070000
END:STANDARD
BEGIN:DAYLIGHT
TZOFFSETFROM:-0600
TZOFFSETTO:-0500
TZNAME:CDT
DTSTART:20230312T080000
END:DAYLIGHT
BEGIN:STANDARD
TZOFFSETFROM:-0500
TZOFFSETTO:-0600
TZNAME:CST
DTSTART:20231105T070000
END:STANDARD
BEGIN:DAYLIGHT
TZOFFSETFROM:-0600
TZOFFSETTO:-0500
TZNAME:CDT
DTSTART:20240310T080000
END:DAYLIGHT
BEGIN:STANDARD
TZOFFSETFROM:-0500
TZOFFSETTO:-0600
TZNAME:CST
DTSTART:20241103T070000
END:STANDARD
END:VTIMEZONE
BEGIN:VEVENT
DTSTART;TZID=America/Chicago:20230506T130000
DTEND;TZID=America/Chicago:20230506T170000
DTSTAMP:20260421T175618
CREATED:20230417T215545Z
LAST-MODIFIED:20230417T215545Z
UID:10001527-1683378000-1683392400@www.koreanquarterly.org
SUMMARY:Lotus Flower Lantern-Making for Buddha's Birthday
DESCRIPTION:Jangmi Arts will hold a workshop on lotus flower lantern-making\, a traditional lantern used for worship and for parades on Buddha’s birthday in Korea.  The workshop will be held Saturday\, May 6\, in two sessions: 1 to 3 p.m. and 3 to 5 p.m.  The event will be held at 34 13th Ave. NE\, Minneapolis. \nCost is $25 per person\, which covers all materials\, plus snacks and beverages. \nJangmi Arts is a Twin Cities organization offering Korean dance and drumming for all ages. There is a Facebook invite and  pre-registration\, and general information at the website:  www.jangmiarts.com.
URL:https://www.koreanquarterly.org/event/lotus-flower-lantern-making-for-buddhas-birthday/
LOCATION:34 13th Avenue NE\, 34 13th Avenue NE\, Minneapolis\, MN\, 55413\, United States
END:VEVENT
BEGIN:VEVENT
DTSTART;TZID=America/Chicago:20230507T160000
DTEND;TZID=America/Chicago:20230507T180000
DTSTAMP:20260421T175618
CREATED:20230417T205634Z
LAST-MODIFIED:20230417T213604Z
UID:10001526-1683475200-1683482400@www.koreanquarterly.org
SUMMARY:Ariana Kim and Chamber Music Society of Minnesota to perform Maksimal
DESCRIPTION:The Chamber Music Society of Minnesota (CMSM) violinist and artistic co-director Ariana Kim\, along with pianist Ieva Jokubaviciute\, will perform the Minnesota premiere of Maksimal for violin and piano at its next concert on May 7. A modern work by American composer David Tempkin\, Maksimal was inspired by the music of Beethoven. Tempkin is known for crafting works filled with rich details and visceral beauty. The concert will be held at the Sundin Music Hall on the campus of Hamline University. \nThe program will also feature the E-flat Piano Quintet by Robert Schumann\, with Kim on violin and Jocumbaviciute on piano\,  joined by Young-Nam Kim (violin)\, Sally Chisholm (viola)\, and Jane Cords O’Hara (cello). \nSince its founding some 20 years ago\, the CMSM has held superb chamber music events\, featuring world-renowned guests and  Minnesota’s finest artists. In addition to its subscription concerts\, the CMSM presents master classes and workshops by distinguished guest artists. Its annual Northern Lights Chamber Music Institute\, the educational arm of the CMSM\, convenes at Camp Vermillion in Cook\, Minnesota\, each August. \nTickets for the May 7 are $25 ($20 senior and $15 student) and are available at the link above. \n 
URL:https://www.koreanquarterly.org/event/ariana-kim-and-chamber-music-society-of-minnesota-to-perform-maksimal/
LOCATION:Sundin Music Hall\, 1531 Hewitt Avenue\, St. Paul\, MN\, 55104\, United States
END:VEVENT
END:VCALENDAR