BEGIN:VCALENDAR
VERSION:2.0
PRODID:-//Korean Quarterly - ECPv6.15.20//NONSGML v1.0//EN
CALSCALE:GREGORIAN
METHOD:PUBLISH
X-WR-CALNAME:Korean Quarterly
X-ORIGINAL-URL:https://www.koreanquarterly.org
X-WR-CALDESC:Events for Korean Quarterly
REFRESH-INTERVAL;VALUE=DURATION:PT1H
X-Robots-Tag:noindex
X-PUBLISHED-TTL:PT1H
BEGIN:VTIMEZONE
TZID:America/Chicago
BEGIN:DAYLIGHT
TZOFFSETFROM:-0600
TZOFFSETTO:-0500
TZNAME:CDT
DTSTART:20220313T080000
END:DAYLIGHT
BEGIN:STANDARD
TZOFFSETFROM:-0500
TZOFFSETTO:-0600
TZNAME:CST
DTSTART:20221106T070000
END:STANDARD
BEGIN:DAYLIGHT
TZOFFSETFROM:-0600
TZOFFSETTO:-0500
TZNAME:CDT
DTSTART:20230312T080000
END:DAYLIGHT
BEGIN:STANDARD
TZOFFSETFROM:-0500
TZOFFSETTO:-0600
TZNAME:CST
DTSTART:20231105T070000
END:STANDARD
BEGIN:DAYLIGHT
TZOFFSETFROM:-0600
TZOFFSETTO:-0500
TZNAME:CDT
DTSTART:20240310T080000
END:DAYLIGHT
BEGIN:STANDARD
TZOFFSETFROM:-0500
TZOFFSETTO:-0600
TZNAME:CST
DTSTART:20241103T070000
END:STANDARD
END:VTIMEZONE
BEGIN:VEVENT
DTSTART;VALUE=DATE:20230726
DTEND;VALUE=DATE:20230729
DTSTAMP:20260421T080758
CREATED:20230529T164029Z
LAST-MODIFIED:20230529T164029Z
UID:10001532-1690329600-1690588799@www.koreanquarterly.org
SUMMARY:Three-day event with conference set to advocate for Korea peace agreement
DESCRIPTION:To mark the 70th anniversary of the armistice which halted the combat of the Korean War\, a three-day event will be held in July in Washington DC  to push for a peace agreement to formally end the Korean War. \nThe event\, dubbed Korea Peace Action: National Mobilization to End the Korean War will take place July 26-28\, 2023. The organizers include peace activists\, humanitarian aid organizations\, and groups representing veterans\, faith traditions\, and Korean American communities. \nThe activities will include a Congressional media briefing\, a community grief ceremony\, a rally in front of the White House\, and a march to the Korean War Veterans Memorial for an interfaith candlelight vigil. \nOn Friday\, July 28\, there will be a conference at George Washington University\, entitled “Prospects and Challenges for a Peace Agreement\,” featuring a panel with a keynote speech by eminent Korea historian Bruce Cumings on the human costs of unending war. \nRegistration is required due to space limitations\, but there is no fee.   For more information:  www.koreapeaceaction.org \n 
URL:https://www.koreanquarterly.org/event/three-day-event-with-conference-set-to-advocate-for-korea-peace-agreement/
LOCATION:MN
END:VEVENT
END:VCALENDAR