BEGIN:VCALENDAR
VERSION:2.0
PRODID:-//Korean Quarterly - ECPv6.15.20//NONSGML v1.0//EN
CALSCALE:GREGORIAN
METHOD:PUBLISH
X-WR-CALNAME:Korean Quarterly
X-ORIGINAL-URL:https://www.koreanquarterly.org
X-WR-CALDESC:Events for Korean Quarterly
REFRESH-INTERVAL;VALUE=DURATION:PT1H
X-Robots-Tag:noindex
X-PUBLISHED-TTL:PT1H
BEGIN:VTIMEZONE
TZID:America/Chicago
BEGIN:DAYLIGHT
TZOFFSETFROM:-0600
TZOFFSETTO:-0500
TZNAME:CDT
DTSTART:20220313T080000
END:DAYLIGHT
BEGIN:STANDARD
TZOFFSETFROM:-0500
TZOFFSETTO:-0600
TZNAME:CST
DTSTART:20221106T070000
END:STANDARD
BEGIN:DAYLIGHT
TZOFFSETFROM:-0600
TZOFFSETTO:-0500
TZNAME:CDT
DTSTART:20230312T080000
END:DAYLIGHT
BEGIN:STANDARD
TZOFFSETFROM:-0500
TZOFFSETTO:-0600
TZNAME:CST
DTSTART:20231105T070000
END:STANDARD
BEGIN:DAYLIGHT
TZOFFSETFROM:-0600
TZOFFSETTO:-0500
TZNAME:CDT
DTSTART:20240310T080000
END:DAYLIGHT
BEGIN:STANDARD
TZOFFSETFROM:-0500
TZOFFSETTO:-0600
TZNAME:CST
DTSTART:20241103T070000
END:STANDARD
END:VTIMEZONE
BEGIN:VEVENT
DTSTART;VALUE=DATE:20230901
DTEND;VALUE=DATE:20230918
DTSTAMP:20260420T201111
CREATED:20230904T201201Z
LAST-MODIFIED:20230904T201201Z
UID:10001920-1693526400-1694995199@www.koreanquarterly.org
SUMMARY:Korean film retrospective series at Lincoln Center
DESCRIPTION:A retrospective series of Korean films\, entitled Korean Cinema’s Golden Decade: The 1960s will be presented from September 1 through 17 at Lincoln Center\, New York. \nThe series features some of the best-known films of the era from many genres: melodramas and period epics to action\, horror\, war\, and giant monster movies.  Some of the famous directors whose films will be screened include Sang-ok Shin\, Hyun-mok Yu\, Soo-yong Kim and Man-hee Lee. These mid-century auteurs popularized and reinvented many of the genres as the nation’s film industry launched in the aftermath of the Korean War. \nTickets are $17 for the general public\, and $14 student/senior and $12 members. \nFor more information\, along with a trailer\, see the website at the attached link
URL:https://www.koreanquarterly.org/event/korean-film-retrospective-series-at-lincoln-center/
LOCATION:Lincoln Center\, 150 West 65th Street\, New York\, NY\, 10023\, United States
END:VEVENT
BEGIN:VEVENT
DTSTART;TZID=America/Chicago:20230916T160000
DTEND;TZID=America/Chicago:20230916T180000
DTSTAMP:20260420T201111
CREATED:20230902T233205Z
LAST-MODIFIED:20230902T233205Z
UID:10001919-1694880000-1694887200@www.koreanquarterly.org
SUMMARY:Korean drumming and dinner event held by KAM Center
DESCRIPTION:The Korean Adoptees Ministry will hold a free Korean cultural event in September with a samulnori performance by Sejong Academy’s Korean drum ensemble\, and a Korean dinner. \nJiwhi Eo\, the Sejong Academy Upper School music teacher\, directs the drum ensemble\, and will also teach a class for participants on sogo (a small handheld drum often used for marching or dancing in Korean traditional percussion performances). \nThe event\, to be held Saturday\, September 16\, 4 to 6 p.m.\, is family-friendly and targeted to Korean adoptees and their families. Location is the Korean Service Center\, 2417 Larpenteur Avenue West\, Lauderdale.   For planning purposes\, please register by emailing KAM Center at:  ka******@***il.com
URL:https://www.koreanquarterly.org/event/korean-drumming-and-dinner-event-held-by-kam-center/
LOCATION:Korean Service Center\, 2417 Larpenteur Avenue West\, St. Paul\, MN\, 55113\, United States
END:VEVENT
END:VCALENDAR