BEGIN:VCALENDAR
VERSION:2.0
PRODID:-//Korean Quarterly - ECPv6.15.20//NONSGML v1.0//EN
CALSCALE:GREGORIAN
METHOD:PUBLISH
X-WR-CALNAME:Korean Quarterly
X-ORIGINAL-URL:https://www.koreanquarterly.org
X-WR-CALDESC:Events for Korean Quarterly
REFRESH-INTERVAL;VALUE=DURATION:PT1H
X-Robots-Tag:noindex
X-PUBLISHED-TTL:PT1H
BEGIN:VTIMEZONE
TZID:America/Chicago
BEGIN:DAYLIGHT
TZOFFSETFROM:-0600
TZOFFSETTO:-0500
TZNAME:CDT
DTSTART:20220313T080000
END:DAYLIGHT
BEGIN:STANDARD
TZOFFSETFROM:-0500
TZOFFSETTO:-0600
TZNAME:CST
DTSTART:20221106T070000
END:STANDARD
BEGIN:DAYLIGHT
TZOFFSETFROM:-0600
TZOFFSETTO:-0500
TZNAME:CDT
DTSTART:20230312T080000
END:DAYLIGHT
BEGIN:STANDARD
TZOFFSETFROM:-0500
TZOFFSETTO:-0600
TZNAME:CST
DTSTART:20231105T070000
END:STANDARD
BEGIN:DAYLIGHT
TZOFFSETFROM:-0600
TZOFFSETTO:-0500
TZNAME:CDT
DTSTART:20240310T080000
END:DAYLIGHT
BEGIN:STANDARD
TZOFFSETFROM:-0500
TZOFFSETTO:-0600
TZNAME:CST
DTSTART:20241103T070000
END:STANDARD
END:VTIMEZONE
BEGIN:VEVENT
DTSTART;TZID=America/Chicago:20230919T190000
DTEND;TZID=America/Chicago:20230919T203000
DTSTAMP:20260420T204723
CREATED:20230913T194418Z
LAST-MODIFIED:20230913T194418Z
UID:10001921-1695150000-1695155400@www.koreanquarterly.org
SUMMARY:Buddhist leader and peace activist Pomnyun Sunim to speak
DESCRIPTION:A free event entitled Casual Conversation with Ven. Pomnyun Sunim will be held at the Crystal Community Center on Tuesday\, September 19 at 7 p.m.\n\nVen. Pomnyun Sunim (“Ven.” is an abbreviation for “venerable” and sunim is the Korean form of address for a monk) is one of the most influential religious leaders in South Korea\, a peace activist\, and a leader of engaged Buddhism\, which applies Buddhist teachings to solving modern issues. He is the recipient of the 2002 Ramon Magsaysay Award and 2020 Niwano Peace Prize.\n\nPomnyun Sunim is the founder of the Jungto Society\, a Buddhist community of practice which began in Korea in 1988\, and how has several communities in foreign countries\, including three in the U.S.\n\nThe talk will be held in a Q&A format\, which will allow audience members to ask questions on topics of their choice. The format allows Pomnyun Sunim to answer in a way that helps the questioners shift their perspectives and begin to find their own answers to life’s challenges.\n\nAttendees of this free event must register with an RSVP at the following link: bit.ly/talk919   The Crystal Community Center is located at 4800 Douglas Dr. N.\, Crystal\, MN  55429.
URL:https://www.koreanquarterly.org/event/buddhist-leader-and-peace-activist-pomnyun-sunim-to-speak/
LOCATION:Crystal Community Center\, 4800 Douglas Drive N.\, Crystal\, MN\, 55429\, United States
END:VEVENT
END:VCALENDAR