BEGIN:VCALENDAR
VERSION:2.0
PRODID:-//Korean Quarterly - ECPv6.15.20//NONSGML v1.0//EN
CALSCALE:GREGORIAN
METHOD:PUBLISH
X-ORIGINAL-URL:https://www.koreanquarterly.org
X-WR-CALDESC:Events for Korean Quarterly
REFRESH-INTERVAL;VALUE=DURATION:PT1H
X-Robots-Tag:noindex
X-PUBLISHED-TTL:PT1H
BEGIN:VTIMEZONE
TZID:America/Chicago
BEGIN:DAYLIGHT
TZOFFSETFROM:-0600
TZOFFSETTO:-0500
TZNAME:CDT
DTSTART:20220313T080000
END:DAYLIGHT
BEGIN:STANDARD
TZOFFSETFROM:-0500
TZOFFSETTO:-0600
TZNAME:CST
DTSTART:20221106T070000
END:STANDARD
BEGIN:DAYLIGHT
TZOFFSETFROM:-0600
TZOFFSETTO:-0500
TZNAME:CDT
DTSTART:20230312T080000
END:DAYLIGHT
BEGIN:STANDARD
TZOFFSETFROM:-0500
TZOFFSETTO:-0600
TZNAME:CST
DTSTART:20231105T070000
END:STANDARD
BEGIN:DAYLIGHT
TZOFFSETFROM:-0600
TZOFFSETTO:-0500
TZNAME:CDT
DTSTART:20240310T080000
END:DAYLIGHT
BEGIN:STANDARD
TZOFFSETFROM:-0500
TZOFFSETTO:-0600
TZNAME:CST
DTSTART:20241103T070000
END:STANDARD
END:VTIMEZONE
BEGIN:VEVENT
DTSTART;TZID=America/Chicago:20231025T130000
DTEND;TZID=America/Chicago:20231025T143000
DTSTAMP:20260420T221846
CREATED:20231022T181408Z
LAST-MODIFIED:20231022T181716Z
UID:10001924-1698238800-1698244200@www.koreanquarterly.org
SUMMARY:Filmmaker to discuss his project to interview Korean adoptees
DESCRIPTION:The filmmaker of the documentary film project Side By Side Glenn Morey\, who did a video oral history project about Korean adoptees in the U.S. and Europe “side by side” with adult Korean nationals who grew up in orphanages and were never adopted\, will speak as part of an online panel discussion called Reframe and Refresh\, by New Day Films.  The topic will be “Exploring Global Connections through Korean Adoptees and Living in China.” \nThe panel will be moderated by Korean adoptee filmmaker Deann Borshay Liem (Geographies of Kinship). In addition to Morey (a Korean adoptee\,) 0ther panelists will include Charles Abelman  (English Hustle) and Joseph W. Ho\, associate professor of history at Albion College. \nThe event will be held at 2 p.m. on Wednesday\, October 25 at 1 p.m. CDT\, 2 p.m. EDT.  It is free\, but RSVP is required at the link. \n 
URL:https://www.koreanquarterly.org/event/filmmaker-to-discuss-his-project-to-interview-korean-adoptees/
LOCATION:MN
END:VEVENT
END:VCALENDAR