BEGIN:VCALENDAR
VERSION:2.0
PRODID:-//Korean Quarterly - ECPv6.15.20//NONSGML v1.0//EN
CALSCALE:GREGORIAN
METHOD:PUBLISH
X-ORIGINAL-URL:https://www.koreanquarterly.org
X-WR-CALDESC:Events for Korean Quarterly
REFRESH-INTERVAL;VALUE=DURATION:PT1H
X-Robots-Tag:noindex
X-PUBLISHED-TTL:PT1H
BEGIN:VTIMEZONE
TZID:America/Chicago
BEGIN:DAYLIGHT
TZOFFSETFROM:-0600
TZOFFSETTO:-0500
TZNAME:CDT
DTSTART:20220313T080000
END:DAYLIGHT
BEGIN:STANDARD
TZOFFSETFROM:-0500
TZOFFSETTO:-0600
TZNAME:CST
DTSTART:20221106T070000
END:STANDARD
BEGIN:DAYLIGHT
TZOFFSETFROM:-0600
TZOFFSETTO:-0500
TZNAME:CDT
DTSTART:20230312T080000
END:DAYLIGHT
BEGIN:STANDARD
TZOFFSETFROM:-0500
TZOFFSETTO:-0600
TZNAME:CST
DTSTART:20231105T070000
END:STANDARD
BEGIN:DAYLIGHT
TZOFFSETFROM:-0600
TZOFFSETTO:-0500
TZNAME:CDT
DTSTART:20240310T080000
END:DAYLIGHT
BEGIN:STANDARD
TZOFFSETFROM:-0500
TZOFFSETTO:-0600
TZNAME:CST
DTSTART:20241103T070000
END:STANDARD
END:VTIMEZONE
BEGIN:VEVENT
DTSTART;TZID=America/Chicago:20231102T190000
DTEND;TZID=America/Chicago:20231102T210000
DTSTAMP:20260420T235813
CREATED:20231021T214816Z
LAST-MODIFIED:20231021T214816Z
UID:10001922-1698951600-1698958800@www.koreanquarterly.org
SUMMARY:Chosen documentary film to be screened at Korea Society
DESCRIPTION:The documentary Chosen\, about five Korean American candidates who ran for Congress in 2020\, will be screened at the Korea Society in New York City\, on Thursday\, November 2\, at 7 p.m. EDT. The screening will be followed by a director talk and interview afterward. \nThe film by Joseph Juhn follows five Korean American candidates who have vastly diverse backgrounds and competing political views as they each navigate their run for the U.S. Congress. \nThe film focuses on David Kim\, an underdog candidate with limited financial resources\, who ran for a Congressional seat in one of the poorest districts of Los Angeles during the pandemic. Korean Quarterly interviewed Juhn about his film in 2022 (see this link). \nIndependent filmmaker/director Joseph Juhn will join the  for an audience Q&A session after the film facilitated by Chelsie Alexandre of the Korea Society. This event is free\, but a donation of $20 to the filmmaker is encouraged.
URL:https://www.koreanquarterly.org/event/chosen-documentary-film-to-be-screened-at-korea-society/
LOCATION:Korea Society\, 350 Madison Avenue\, 24th Floor New York\, NY 10017\, New York\, NY\, 10023\, United States
END:VEVENT
BEGIN:VEVENT
DTSTART;TZID=America/Chicago:20231104T084500
DTEND;TZID=America/Chicago:20231104T170000
DTSTAMP:20260420T235813
CREATED:20231021T220856Z
LAST-MODIFIED:20231022T183058Z
UID:10001923-1699087500-1699117200@www.koreanquarterly.org
SUMMARY:Adoptee Hub to hold Self-Care Workshop for Korean adoptee adults
DESCRIPTION:Adoptee Hub will hold a cultural identity and self-care workshop targeted to adult Korean adoptees (age 18 and older) to be held Saturday\, November 4. \nThe all-day event will feature  four different sessions. Topics will include: yoga and meditation; massage therapy; the traditional Korean tea ceremony; essential Korean language learning; cooking classes for making kimbap (rice and vegetables rolled in seaweed) and Korea’s national dish\, kimchi;  self-defense; and informational sessions on birth search and visiting Korea. \nThere will be breakout rooms (12 people per room)\, and participants are encouraged to discuss\, share experiences\, be curious\, and build resilience and self-awareness.  All discussion is confidential and will be conducted in a safe\, nonjudgmental space. \nParticipants will receive a free t-shirt and other items depending upon the session attended. A continental breakfast and a Korean-inspired lunch are included.
URL:https://www.koreanquarterly.org/event/adoptee-hub-to-hold-self-care-workshop-for-korean-adoptee-adults/
LOCATION:Coffman Memorial Union\, 300 Washington Ave. SE\, Minneapolis\, MN\, 55455\, United States
END:VEVENT
END:VCALENDAR