BEGIN:VCALENDAR
VERSION:2.0
PRODID:-//Korean Quarterly - ECPv6.15.20//NONSGML v1.0//EN
CALSCALE:GREGORIAN
METHOD:PUBLISH
X-WR-CALNAME:Korean Quarterly
X-ORIGINAL-URL:https://www.koreanquarterly.org
X-WR-CALDESC:Events for Korean Quarterly
REFRESH-INTERVAL;VALUE=DURATION:PT1H
X-Robots-Tag:noindex
X-PUBLISHED-TTL:PT1H
BEGIN:VTIMEZONE
TZID:America/Chicago
BEGIN:DAYLIGHT
TZOFFSETFROM:-0600
TZOFFSETTO:-0500
TZNAME:CDT
DTSTART:20240310T080000
END:DAYLIGHT
BEGIN:STANDARD
TZOFFSETFROM:-0500
TZOFFSETTO:-0600
TZNAME:CST
DTSTART:20241103T070000
END:STANDARD
BEGIN:DAYLIGHT
TZOFFSETFROM:-0600
TZOFFSETTO:-0500
TZNAME:CDT
DTSTART:20250309T080000
END:DAYLIGHT
BEGIN:STANDARD
TZOFFSETFROM:-0500
TZOFFSETTO:-0600
TZNAME:CST
DTSTART:20251102T070000
END:STANDARD
BEGIN:DAYLIGHT
TZOFFSETFROM:-0600
TZOFFSETTO:-0500
TZNAME:CDT
DTSTART:20260308T080000
END:DAYLIGHT
BEGIN:STANDARD
TZOFFSETFROM:-0500
TZOFFSETTO:-0600
TZNAME:CST
DTSTART:20261101T070000
END:STANDARD
END:VTIMEZONE
BEGIN:VEVENT
DTSTART;TZID=America/Chicago:20250510T130000
DTEND;TZID=America/Chicago:20250510T170000
DTSTAMP:20260419T131245
CREATED:20250417T154142Z
LAST-MODIFIED:20250417T154142Z
UID:10002332-1746882000-1746896400@www.koreanquarterly.org
SUMMARY:Arbeiter Brewery to hold Phoenix Festival
DESCRIPTION:The Korean American-owned Arbeiter Brewery in Minneapolis is holding its annual Asian Phoenix Festival\, a free event\,  on May 10 l to lift up AAPI culture through community. \nThe Asian Phoenix represents resilience\, revitalization\, and harmony.\, and has become an important symbol to the South Minneapolis neighborhood as it works to renew and rebuild since the spring 2020 uprising. \nThe free event will include several Asian food vendors\, including Bao Bao Buns\, Caphin Vietnamese Coffee\, and D’s Bahn Mi. Asian performing artists will include JangmiArts\, and special guests Gina Choi and Chansoo Lee\, DTG Lions\, SeevCev and the DJ Diane Miller. \nThere will be an Asian craft market\, and activities for children include face painting and a bounce house. \nThe event is sponsored in part by the Lake Street Council and Lake Street Lift. \nArbeiter Brewing Company\, located at 3038 Minnehaha Avenue\, creates a variety of beer styles\, including a Korean rice lager\, and a German pilsner. Arbeiter Brewing is one of a very few Asian-owned breweries in the country\, since Asian owners represent only two percent of all breweries in the U.S.
URL:https://www.koreanquarterly.org/event/arbeiter-brewery-to-hold-phoenix-festival/
LOCATION:Arbeiter Brewing Co.\, 3038 Minnehaha Ave.\, Minneapolis\, MN\, 55406\, United States
ORGANIZER;CN="Arbeiter Brewing":MAILTO:info@arbeiterbrewing.com
END:VEVENT
END:VCALENDAR